BEGIN:VCALENDAR
PRODID:-//AT Content Types//AT Event//EN
VERSION:1.0
BEGIN:VEVENT
DTSTART:20180507T083000Z
DTEND:20180507T083000Z
DCREATED:20180503T131717Z
UID:ATEvent-9411c164815d45aba765c70cddfb1582
SEQUENCE:0
LAST-MODIFIED:20180503T131721Z
SUMMARY:Comissió Legislativa d'Interior
LOCATION:Nova seu Planta -3 sala AB
PRIORITY:3
TRANSP:0
END:VEVENT
END:VCALENDAR
