BEGIN:VCALENDAR
PRODID:-//AT Content Types//AT Event//EN
VERSION:1.0
BEGIN:VEVENT
DTSTART:20170306T090000Z
DTEND:20170306T090000Z
DCREATED:20170228T110932Z
UID:ATEvent-01092f3976a949c4a4e38b4603038325
SEQUENCE:0
LAST-MODIFIED:20170228T110936Z
SUMMARY:Comissió Legislativa d'Interior
LOCATION:Nova seu Planta -3 sala AB
PRIORITY:3
TRANSP:0
END:VEVENT
END:VCALENDAR
