BEGIN:VCALENDAR
PRODID:-//AT Content Types//AT Event//EN
VERSION:1.0
BEGIN:VEVENT
DTSTART:20180507T080000Z
DTEND:20180507T080000Z
DCREATED:20180430T142944Z
UID:ATEvent-16455805e85f4571b56c8f0e21000dcb
SEQUENCE:0
LAST-MODIFIED:20180430T142949Z
SUMMARY:Comissió Legislativa d'Interior
LOCATION:Nova seu Planta -3 sala AB
PRIORITY:3
TRANSP:0
END:VEVENT
END:VCALENDAR
