BEGIN:VCALENDAR
PRODID:-//AT Content Types//AT Event//EN
VERSION:2.0
METHOD:PUBLISH
BEGIN:VEVENT
DTSTAMP:20260420T065209Z
CREATED:20140416T095519Z
UID:ATEvent-d934c86986c944f986913ba4476a46df
LAST-MODIFIED:20140424T101805Z
SUMMARY:Comissió Legislativa d'Interior
DTSTART:20140423T073000Z
DTEND:20140423T073000Z
LOCATION:Nova seu planta -3 sala A
CLASS:PUBLIC
END:VEVENT
END:VCALENDAR
