BEGIN:VCALENDAR
PRODID:-//AT Content Types//AT Event//EN
VERSION:1.0
BEGIN:VEVENT
DTSTART:20170123T090000Z
DTEND:20170123T090000Z
DCREATED:20170118T133536Z
UID:ATEvent-4c7d66c446dc48fc867a2764a06771bc
SEQUENCE:0
LAST-MODIFIED:20170118T133539Z
SUMMARY:Comissió Legislativa d'Interior
LOCATION:Nova seu Planta -3 sala AB
PRIORITY:3
TRANSP:0
END:VEVENT
END:VCALENDAR
