BEGIN:VCALENDAR
PRODID:-//AT Content Types//AT Event//EN
VERSION:1.0
BEGIN:VEVENT
DTSTART:20160720T080000Z
DTEND:20160720T080000Z
DCREATED:20160719T095509Z
UID:ATEvent-3f20ea27b84e4cd28da2289799dbbe80
SEQUENCE:0
LAST-MODIFIED:20160719T095542Z
SUMMARY:Comissió Legislativa d'Interior
LOCATION:Nova seu Planta -3 sala AB
PRIORITY:3
TRANSP:0
END:VEVENT
END:VCALENDAR
