BEGIN:VCALENDAR
PRODID:-//AT Content Types//AT Event//EN
VERSION:2.0
METHOD:PUBLISH
BEGIN:VEVENT
DTSTAMP:20260419T220818Z
CREATED:20140402T110129Z
UID:ATEvent-44bae558a01747e4b76b3d2037c90b2f
LAST-MODIFIED:20140416T095541Z
SUMMARY:Comissió Legislativa d'Interior
DTSTART:20140409T073000Z
DTEND:20140409T073000Z
LOCATION:Nova seu planta -3 sala A
CLASS:PUBLIC
END:VEVENT
END:VCALENDAR
