BEGIN:VCALENDAR
PRODID:-//AT Content Types//AT Event//EN
VERSION:2.0
METHOD:PUBLISH
BEGIN:VEVENT
DTSTAMP:20260419T180708Z
CREATED:20150505T112656Z
UID:ATEvent-32f682fd2aa9420ba9eec702c4d2c937
LAST-MODIFIED:20150520T082410Z
SUMMARY:Comissió Legislativa d'Interior
DTSTART:20150518T090000Z
DTEND:20150518T090000Z
LOCATION:Nova seu Planta -3 sala AB
CLASS:PUBLIC
END:VEVENT
END:VCALENDAR
