BEGIN:VCALENDAR
PRODID:-//AT Content Types//AT Event//EN
VERSION:1.0
BEGIN:VEVENT
DTSTART:20140402T073000Z
DTEND:20140402T073000Z
DCREATED:20140328T122856Z
UID:ATEvent-7a054d0c8110496d8cac745930c207d9
SEQUENCE:0
LAST-MODIFIED:20140328T122913Z
SUMMARY:Comissió Legislativa d'Interior
LOCATION:Nova seu planta -3 sala A
PRIORITY:3
TRANSP:0
END:VEVENT
END:VCALENDAR
