BEGIN:VCALENDAR
PRODID:-//AT Content Types//AT Event//EN
VERSION:2.0
METHOD:PUBLISH
BEGIN:VEVENT
DTSTAMP:20260422T141822Z
CREATED:20140915T105136Z
UID:ATEvent-23e2145506c34e549fdddb867371fe08
LAST-MODIFIED:20140917T110608Z
SUMMARY:Comissió Legislativa d'Interior
DTSTART:20140917T080000Z
DTEND:20140917T080000Z
LOCATION:Nova seu planta -3 sala A
CLASS:PUBLIC
END:VEVENT
END:VCALENDAR
