BEGIN:VCALENDAR
PRODID:-//AT Content Types//AT Event//EN
VERSION:1.0
BEGIN:VEVENT
DTSTART:20170921T133000Z
DTEND:20170921T133000Z
DCREATED:20170911T120554Z
UID:ATEvent-6792fc8f49d144ffaee8f68745f5de71
SEQUENCE:0
LAST-MODIFIED:20170921T120456Z
SUMMARY:ANUL·LADA: Comissió Legislativa d'Educació\, Recerca\, Cultura
LOCATION:Nova seu Planta -3 sala de compareixences
PRIORITY:3
TRANSP:0
END:VEVENT
END:VCALENDAR
