BEGIN:VCALENDAR
PRODID:-//AT Content Types//AT Event//EN
VERSION:2.0
METHOD:PUBLISH
BEGIN:VEVENT
DTSTAMP:20260422T141028Z
CREATED:20170324T114628Z
UID:ATEvent-0f69434ab3ac45489676c0fc76255711
LAST-MODIFIED:20170324T114632Z
SUMMARY:Comissió Legislativa d'Educació\, Recerca\, Cultura i Esports
DTSTART:20170427T133000Z
DTEND:20170427T133000Z
LOCATION:Nova seu Planta -3 sala de compareixences
CLASS:PUBLIC
END:VEVENT
END:VCALENDAR
