BEGIN:VCALENDAR
PRODID:-//AT Content Types//AT Event//EN
VERSION:1.0
BEGIN:VEVENT
DTSTART:20150618T130000Z
DTEND:20150618T130000Z
DCREATED:20150615T072858Z
UID:ATEvent-a0c4857809a74288a49efa96d74c0e45
SEQUENCE:0
LAST-MODIFIED:20150615T072906Z
SUMMARY:Comissió Legislativa d'Educació\, Recerca\, Cultura i Esports
LOCATION:Nova seu Planta -3 sala compareixences
PRIORITY:3
TRANSP:0
END:VEVENT
END:VCALENDAR
