BEGIN:VCALENDAR
PRODID:-//AT Content Types//AT Event//EN
VERSION:2.0
METHOD:PUBLISH
BEGIN:VEVENT
DTSTAMP:20260425T235312Z
CREATED:20180206T075912Z
UID:ATEvent-0da72d19c9e94701851b7f38a411e719
LAST-MODIFIED:20180206T075917Z
SUMMARY:Comissió Legislativa d'Educació\, Recerca\, Cultura
DTSTART:20180308T150000Z
DTEND:20180308T150000Z
LOCATION:Nova seu Planta -3 sala AB
CLASS:PUBLIC
END:VEVENT
END:VCALENDAR
