BEGIN:VCALENDAR
PRODID:-//AT Content Types//AT Event//EN
VERSION:2.0
METHOD:PUBLISH
BEGIN:VEVENT
DTSTAMP:20260422T214528Z
CREATED:20180917T085603Z
UID:ATEvent-76c9ec11a10f4ac2a62326fe60f99bdd
LAST-MODIFIED:20180917T085606Z
SUMMARY:Comissió Legislativa d'Educació\, Recerca\, Cultura
DTSTART:20180920T133000Z
DTEND:20180920T133000Z
LOCATION:Nova seu Planta -3 sala AB
CLASS:PUBLIC
END:VEVENT
END:VCALENDAR
