BEGIN:VCALENDAR
PRODID:-//AT Content Types//AT Event//EN
VERSION:1.0
BEGIN:VEVENT
DTSTART:20171012T133000Z
DTEND:20171012T133000Z
DCREATED:20170926T113910Z
UID:ATEvent-07b3f35ea2fa4d27b7a2e96d783deb70
SEQUENCE:0
LAST-MODIFIED:20170926T113915Z
SUMMARY:Comissió Legislativa d'Educació\, Recerca\, Cultura
LOCATION:Nova seu Planta -3 sala de compareixences
PRIORITY:3
TRANSP:0
END:VEVENT
END:VCALENDAR
