BEGIN:VCALENDAR
PRODID:-//AT Content Types//AT Event//EN
VERSION:2.0
METHOD:PUBLISH
BEGIN:VEVENT
DTSTAMP:20260423T122423Z
CREATED:20180621T095611Z
UID:ATEvent-8953d09e15df40ae9e1f56e1a28ea497
LAST-MODIFIED:20180621T095614Z
SUMMARY:Comissió Legislativa d'Educació\, Recerca\, Cultura
DTSTART:20180627T133000Z
DTEND:20180627T133000Z
LOCATION:Nova seu Planta -3 sala AB
CLASS:PUBLIC
END:VEVENT
END:VCALENDAR
