BEGIN:VCALENDAR
PRODID:-//AT Content Types//AT Event//EN
VERSION:1.0
BEGIN:VEVENT
DTSTART:20180425T130000Z
DTEND:20180425T130000Z
DCREATED:20180323T121541Z
UID:ATEvent-bc357100f0e24dca93d2c7784ebb413a
SEQUENCE:0
LAST-MODIFIED:20180323T121545Z
SUMMARY:Comissió Legislativa d'Educació\, Recerca\, Cultura
LOCATION:Nova seu Planta -3 sala AB
PRIORITY:3
TRANSP:0
END:VEVENT
END:VCALENDAR
