BEGIN:VCALENDAR
PRODID:-//AT Content Types//AT Event//EN
VERSION:1.0
BEGIN:VEVENT
DTSTART:20180928T090000Z
DTEND:20180928T090000Z
DCREATED:20180924T134236Z
UID:ATEvent-b9b72e3366774b5a89da70e31234f33f
SEQUENCE:0
LAST-MODIFIED:20180924T134240Z
SUMMARY:Comissió Legislativa d'Economia
LOCATION:Nova seu Planta -3 sala AB
PRIORITY:3
TRANSP:0
END:VEVENT
END:VCALENDAR
