BEGIN:VCALENDAR
PRODID:-//AT Content Types//AT Event//EN
VERSION:2.0
METHOD:PUBLISH
BEGIN:VEVENT
DTSTAMP:20260423T154204Z
CREATED:20180608T122845Z
UID:ATEvent-3938ae38845b4abaa5dfe3b8e836115f
LAST-MODIFIED:20180608T123251Z
SUMMARY:Comissió Legislativa d'Economia
DTSTART:20180615T093000Z
DTEND:20180615T093000Z
LOCATION:Nova seu Planta -3 sala AB
CLASS:PUBLIC
END:VEVENT
END:VCALENDAR
