BEGIN:VCALENDAR
PRODID:-//AT Content Types//AT Event//EN
VERSION:1.0
BEGIN:VEVENT
DTSTART:20200610T080000Z
DTEND:20200610T080000Z
DCREATED:20180608T122843Z
UID:ATEvent-9b167634ec914ece81bbd810061983df
SEQUENCE:0
LAST-MODIFIED:20200608T085749Z
SUMMARY:Sessió plenària del 18è Consell General dels Joves
LOCATION:Nova seu Planta -2 Hemicicle
PRIORITY:3
TRANSP:0
END:VEVENT
END:VCALENDAR
