BEGIN:VCALENDAR
PRODID:-//AT Content Types//AT Event//EN
VERSION:2.0
METHOD:PUBLISH
BEGIN:VEVENT
DTSTAMP:20260422T030327Z
CREATED:20180518T105501Z
UID:ATEvent-34e66eac521a41ee9b8ffb3b41d085fb
LAST-MODIFIED:20180518T112925Z
SUMMARY:Comissió Legislativa d'Economia
DTSTART:20180601T090000Z
DTEND:20180601T090000Z
LOCATION:Nova seu Planta -3 sala AB
CLASS:PUBLIC
END:VEVENT
END:VCALENDAR
