BEGIN:VCALENDAR
PRODID:-//AT Content Types//AT Event//EN
VERSION:1.0
BEGIN:VEVENT
DTSTART:20180209T100000Z
DTEND:20180209T100000Z
DCREATED:20180206T125807Z
UID:ATEvent-94cb98a10ac64eddbf8fb0d3025c5dce
SEQUENCE:0
LAST-MODIFIED:20180206T125818Z
SUMMARY:Comissió Legislativa d'Economia
LOCATION:Nova seu Planta -3 sala de compareixences
PRIORITY:3
TRANSP:0
END:VEVENT
END:VCALENDAR
