BEGIN:VCALENDAR
PRODID:-//AT Content Types//AT Event//EN
VERSION:2.0
METHOD:PUBLISH
BEGIN:VEVENT
DTSTAMP:20260420T023234Z
CREATED:20151116T135938Z
UID:ATEvent-dcd1f025f05046fd937a6e4b097a5538
LAST-MODIFIED:20151117T090157Z
SUMMARY:Comissió Legislativa d'Economia
DTSTART:20151119T130000Z
DTEND:20151119T130000Z
LOCATION:Nova seu Planta -3 sala AB
CLASS:PUBLIC
END:VEVENT
END:VCALENDAR
