BEGIN:VCALENDAR
PRODID:-//AT Content Types//AT Event//EN
VERSION:2.0
METHOD:PUBLISH
BEGIN:VEVENT
DTSTAMP:20260422T082353Z
CREATED:20150630T090359Z
UID:ATEvent-0b30366bf1a44329a3d4a93c508a67aa
LAST-MODIFIED:20150630T090402Z
SUMMARY:Comissió Legislativa d'Economia
DTSTART:20150702T090000Z
DTEND:20150702T090000Z
LOCATION:Nova seu Planta -3 sala de compareixences
CLASS:PUBLIC
END:VEVENT
END:VCALENDAR
