BEGIN:VCALENDAR
PRODID:-//AT Content Types//AT Event//EN
VERSION:2.0
METHOD:PUBLISH
BEGIN:VEVENT
DTSTAMP:20260423T143756Z
CREATED:20141230T080901Z
UID:ATEvent-6b7ef3b7774c4b59a8a24ede683fb92f
LAST-MODIFIED:20141230T080914Z
SUMMARY:Comissió Legislativa d'Economia
DTSTART:20150108T083000Z
DTEND:20150108T083000Z
LOCATION:Nova seu planta -3 sala A
CLASS:PUBLIC
END:VEVENT
END:VCALENDAR
