BEGIN:VCALENDAR
PRODID:-//AT Content Types//AT Event//EN
VERSION:1.0
BEGIN:VEVENT
DTSTART:20141121T090000Z
DTEND:20141121T090000Z
DCREATED:20141117T110209Z
UID:ATEvent-34acf3919ad2437a97cdaf79f1af286c
SEQUENCE:0
LAST-MODIFIED:20141117T151340Z
SUMMARY:Comissió Legislativa d'Economia
LOCATION:Nova seu planta -3 sala A
PRIORITY:3
TRANSP:0
END:VEVENT
END:VCALENDAR
