BEGIN:VCALENDAR
PRODID:-//AT Content Types//AT Event//EN
VERSION:2.0
METHOD:PUBLISH
BEGIN:VEVENT
DTSTAMP:20260425T202057Z
CREATED:20141107T132634Z
UID:ATEvent-a098528ac2de4e0993b220b1d76ec87e
LAST-MODIFIED:20141107T132639Z
SUMMARY:Comissió Legislativa d'Economia
DTSTART:20141120T103000Z
DTEND:20141120T103000Z
LOCATION:Nova seu planta -3 sala A
CLASS:PUBLIC
END:VEVENT
END:VCALENDAR
