BEGIN:VCALENDAR
PRODID:-//AT Content Types//AT Event//EN
VERSION:2.0
METHOD:PUBLISH
BEGIN:VEVENT
DTSTAMP:20260422T175005Z
CREATED:20141107T132447Z
UID:ATEvent-4f912f7442ce4d619ab9d9d37ac6fff5
LAST-MODIFIED:20141107T132454Z
SUMMARY:Comissió Legislativa d'Economia
DTSTART:20141120T093000Z
DTEND:20141120T093000Z
LOCATION:Nova seu planta -3 sala A
CLASS:PUBLIC
END:VEVENT
END:VCALENDAR
