BEGIN:VCALENDAR
PRODID:-//AT Content Types//AT Event//EN
VERSION:1.0
BEGIN:VEVENT
DTSTART:20141106T093000Z
DTEND:20141106T093000Z
DCREATED:20141030T121335Z
UID:ATEvent-be3bbd7e790a49619f8a523b5e076dbe
SEQUENCE:0
LAST-MODIFIED:20141030T121413Z
SUMMARY:Comissió Legislativa d'Economia
LOCATION:Nova seu planta -3 sala A
PRIORITY:3
TRANSP:0
END:VEVENT
END:VCALENDAR
