BEGIN:VCALENDAR
PRODID:-//AT Content Types//AT Event//EN
VERSION:2.0
METHOD:PUBLISH
BEGIN:VEVENT
DTSTAMP:20260420T162541Z
CREATED:20141015T062113Z
UID:ATEvent-74bc5d51162e45288bc2c0591164fe3d
LAST-MODIFIED:20141015T062119Z
SUMMARY:Comissió Legislativa d'Economia
DTSTART:20141015T090000Z
DTEND:20141015T090000Z
LOCATION:Nova seu planta -3 sala A
CLASS:PUBLIC
END:VEVENT
END:VCALENDAR
