BEGIN:VCALENDAR
PRODID:-//AT Content Types//AT Event//EN
VERSION:1.0
BEGIN:VEVENT
DTSTART:20140926T073000Z
DTEND:20140926T073000Z
DCREATED:20140925T104139Z
UID:ATEvent-cbba9fac7a7745d08b4b7390355446f6
SEQUENCE:0
LAST-MODIFIED:20140925T104145Z
SUMMARY:Comissió Legislativa d'Economia
LOCATION:Nova seu\, planta 2\, sala de Sindicatura
PRIORITY:3
TRANSP:0
END:VEVENT
END:VCALENDAR
