BEGIN:VCALENDAR
PRODID:-//AT Content Types//AT Event//EN
VERSION:1.0
BEGIN:VEVENT
DTSTART:20140414T071500Z
DTEND:20140414T071500Z
DCREATED:20140410T125725Z
UID:ATEvent-d16fa055ad6f4702b8c585bed61ecb82
SEQUENCE:0
LAST-MODIFIED:20140410T125843Z
SUMMARY:Comissió Legislativa d'Economia
LOCATION:Nova seu planta -3 sala A
PRIORITY:3
TRANSP:0
END:VEVENT
END:VCALENDAR
