BEGIN:VCALENDAR
PRODID:-//AT Content Types//AT Event//EN
VERSION:1.0
BEGIN:VEVENT
DTSTART:20240320T083000Z
DTEND:20240320T100000Z
DCREATED:20240319T093605Z
UID:ATEvent-599d6d97b4d446dfaa3660afbda3e19d
SEQUENCE:0
LAST-MODIFIED:20240319T093609Z
SUMMARY:Comissió Legislativa de seguiment i sostenibilitat de les pensions de la Caixa Andorrana de Seguretat Social
LOCATION:Consell General (planta -3)
PRIORITY:3
TRANSP:0
END:VEVENT
END:VCALENDAR
