BEGIN:VCALENDAR
PRODID:-//AT Content Types//AT Event//EN
VERSION:2.0
METHOD:PUBLISH
BEGIN:VEVENT
DTSTAMP:20260422T082506Z
CREATED:20140326T105649Z
UID:ATEvent-2c0306d5456048fb9fdc72a93af0301b
LAST-MODIFIED:20140326T105656Z
SUMMARY:Comissió Legislativa de Sanitat i Medi Ambient
DTSTART:20140331T074500Z
DTEND:20140331T074500Z
LOCATION:Nova seu planta -3 sala A
CLASS:PUBLIC
END:VEVENT
END:VCALENDAR
