BEGIN:VCALENDAR
PRODID:-//AT Content Types//AT Event//EN
VERSION:1.0
BEGIN:VEVENT
DTSTART:20180702T140000Z
DTEND:20180702T140000Z
DCREATED:20180626T112207Z
UID:ATEvent-0d193e57afe340c98af4b0d86bfd5905
SEQUENCE:0
LAST-MODIFIED:20180626T112503Z
SUMMARY:Comissió Legislativa de Sanitat i Medi Ambient
LOCATION:Nova seu Planta -3 sala AB
PRIORITY:3
TRANSP:0
END:VEVENT
END:VCALENDAR
