BEGIN:VCALENDAR
PRODID:-//AT Content Types//AT Event//EN
VERSION:2.0
METHOD:PUBLISH
BEGIN:VEVENT
DTSTAMP:20260419T200828Z
CREATED:20140324T135626Z
UID:ATEvent-b87e515167c845afa651016ea81e352f
LAST-MODIFIED:20140326T120254Z
SUMMARY:Comissió Legislativa de Sanitat i Medi Ambient
DTSTART:20140326T083000Z
DTEND:20140326T083000Z
LOCATION:Nova seu planta -3 sala A
CLASS:PUBLIC
END:VEVENT
END:VCALENDAR
