BEGIN:VCALENDAR
PRODID:-//AT Content Types//AT Event//EN
VERSION:1.0
BEGIN:VEVENT
DTSTART:20170925T130000Z
DTEND:20170925T130000Z
DCREATED:20170919T113722Z
UID:ATEvent-17774ee7e8f847d4b9e19234034ef13e
SEQUENCE:0
LAST-MODIFIED:20170919T113726Z
SUMMARY:Comissió Legislativa de Sanitat i Medi Ambient
LOCATION:Nova seu Planta -3 sala AB
PRIORITY:3
TRANSP:0
END:VEVENT
END:VCALENDAR
