BEGIN:VCALENDAR
PRODID:-//AT Content Types//AT Event//EN
VERSION:1.0
BEGIN:VEVENT
DTSTART:20160523T140000Z
DTEND:20160523T140000Z
DCREATED:20160503T110925Z
UID:ATEvent-154d7d2c76d040558ee3c71dad48cb0d
SEQUENCE:0
LAST-MODIFIED:20160512T112537Z
SUMMARY:Comissió Legislativa de Sanitat i Medi Ambient
LOCATION:Nova seu Planta -3 sala AB
PRIORITY:3
TRANSP:0
END:VEVENT
END:VCALENDAR
