BEGIN:VCALENDAR
PRODID:-//AT Content Types//AT Event//EN
VERSION:2.0
METHOD:PUBLISH
BEGIN:VEVENT
DTSTAMP:20260423T053724Z
CREATED:20151112T090944Z
UID:ATEvent-f0fb675781c64a63b9348fa110645ec8
LAST-MODIFIED:20151112T090948Z
SUMMARY:Comissió Legislativa de Sanitat i Medi Ambient
DTSTART:20151116T143000Z
DTEND:20151116T143000Z
LOCATION:Nova seu Planta -3 sala AB
CLASS:PUBLIC
END:VEVENT
END:VCALENDAR
