BEGIN:VCALENDAR
PRODID:-//AT Content Types//AT Event//EN
VERSION:1.0
BEGIN:VEVENT
DTSTART:20150701T133000Z
DTEND:20150701T133000Z
DCREATED:20150630T130128Z
UID:ATEvent-082d87acca9042aaa64bc86245cf4f0f
SEQUENCE:0
LAST-MODIFIED:20150630T130135Z
SUMMARY:Comissió Legislativa de Sanitat i Medi Ambient
LOCATION:Nova seu Planta -3 sala AB
PRIORITY:3
TRANSP:0
END:VEVENT
END:VCALENDAR
