BEGIN:VCALENDAR
PRODID:-//AT Content Types//AT Event//EN
VERSION:2.0
METHOD:PUBLISH
BEGIN:VEVENT
DTSTAMP:20260423T095344Z
CREATED:20150504T141535Z
UID:ATEvent-763416ff55164b4f9c3824800892e6ae
LAST-MODIFIED:20150504T141542Z
SUMMARY:Comissió Legislativa de Sanitat i Medi Ambient
DTSTART:20150507T130000Z
DTEND:20150507T130000Z
LOCATION:Nova seu Planta -3 sala AB
CLASS:PUBLIC
END:VEVENT
END:VCALENDAR
