BEGIN:VCALENDAR
PRODID:-//AT Content Types//AT Event//EN
VERSION:2.0
METHOD:PUBLISH
BEGIN:VEVENT
DTSTAMP:20260421T130622Z
CREATED:20140602T105523Z
UID:ATEvent-f6f4abc92d1940efa0c2ce64e3586e9b
LAST-MODIFIED:20140613T102331Z
SUMMARY:Comissió Legislativa de Sanitat i Medi Ambient
DTSTART:20140612T063000Z
DTEND:20140612T063000Z
LOCATION:Nova seu planta -3 sala A
CLASS:PUBLIC
END:VEVENT
END:VCALENDAR
