BEGIN:VCALENDAR
PRODID:-//AT Content Types//AT Event//EN
VERSION:2.0
METHOD:PUBLISH
BEGIN:VEVENT
DTSTAMP:20260420T145828Z
CREATED:20140516T100247Z
UID:ATEvent-416e2172f2ea4e12b15b163ee717561d
LAST-MODIFIED:20140520T084010Z
SUMMARY:Comissió Legislativa de Sanitat i Medi Ambient
DTSTART:20140519T073000Z
DTEND:20140519T073000Z
LOCATION:Nova seu planta -3 sala A
CLASS:PUBLIC
END:VEVENT
END:VCALENDAR
