BEGIN:VCALENDAR
PRODID:-//AT Content Types//AT Event//EN
VERSION:1.0
BEGIN:VEVENT
DTSTART:20140515T073000Z
DTEND:20140515T073000Z
DCREATED:20140428T124619Z
UID:ATEvent-555dcaa0fcf5417bb178fa076e6d48a3
SEQUENCE:0
LAST-MODIFIED:20140516T105326Z
SUMMARY:Comissió Legislativa de Sanitat i Medi Ambient
LOCATION:Nova seu planta -3 sala A
PRIORITY:3
TRANSP:0
END:VEVENT
END:VCALENDAR
