BEGIN:VCALENDAR
PRODID:-//AT Content Types//AT Event//EN
VERSION:2.0
METHOD:PUBLISH
BEGIN:VEVENT
DTSTAMP:20260419T144948Z
CREATED:20221012T143509Z
UID:ATEvent-cfeef37c5cb64be3bdb63a2fdae16812
LAST-MODIFIED:20221025T062843Z
SUMMARY:Comissió Legislativa de Sanitat
DTSTART:20221026T093000Z
DTEND:20221026T093000Z
LOCATION:Nova seu Planta -3 sala de compareixences públiques
CLASS:PUBLIC
END:VEVENT
END:VCALENDAR
