BEGIN:VCALENDAR
PRODID:-//AT Content Types//AT Event//EN
VERSION:2.0
METHOD:PUBLISH
BEGIN:VEVENT
DTSTAMP:20260424T093949Z
CREATED:20221005T115015Z
UID:ATEvent-350b329550b749279136deb83c95e8d3
LAST-MODIFIED:20221005T115020Z
SUMMARY:Comissió Legislativa de Sanitat
DTSTART:20221012T103000Z
DTEND:20221012T103000Z
CLASS:PUBLIC
END:VEVENT
END:VCALENDAR
