BEGIN:VCALENDAR
PRODID:-//AT Content Types//AT Event//EN
VERSION:1.0
BEGIN:VEVENT
DTSTART:20220308T143000Z
DTEND:20220308T143000Z
DCREATED:20220302T161227Z
UID:ATEvent-8d5f180a26604b98b8bbfa957e3655ef
SEQUENCE:0
LAST-MODIFIED:20220308T091627Z
SUMMARY:Comissió Legislativa de Sanitat
LOCATION:Nova seu Planta -3 sala de compareixences públiques
PRIORITY:3
TRANSP:0
END:VEVENT
END:VCALENDAR
