BEGIN:VCALENDAR
PRODID:-//AT Content Types//AT Event//EN
VERSION:2.0
METHOD:PUBLISH
BEGIN:VEVENT
DTSTAMP:20260420T200758Z
CREATED:20220128T102236Z
UID:ATEvent-924ddde8ab1c4865936b7c1ac1a3a8a1
LAST-MODIFIED:20220128T122620Z
SUMMARY:Comissió Legislativa de Sanitat
DTSTART:20220201T143000Z
DTEND:20220201T143000Z
LOCATION:Nova seu Planta -3 sala de compareixences públiques
CLASS:PUBLIC
END:VEVENT
END:VCALENDAR
