BEGIN:VCALENDAR
PRODID:-//AT Content Types//AT Event//EN
VERSION:1.0
BEGIN:VEVENT
DTSTART:20211021T140000Z
DTEND:20211021T140000Z
DCREATED:20210917T091759Z
UID:ATEvent-4d93645ce1d24537814485439cd344ae
SEQUENCE:0
LAST-MODIFIED:20210917T095343Z
SUMMARY:Comissió Legislativa de Sanitat
PRIORITY:3
TRANSP:0
END:VEVENT
END:VCALENDAR
